BEGIN:VCALENDAR
VERSION:2.0
PRODID:-//Foothill Unity Center - ECPv6.15.20//NONSGML v1.0//EN
CALSCALE:GREGORIAN
METHOD:PUBLISH
X-WR-CALNAME:Foothill Unity Center
X-ORIGINAL-URL:https://foothillunitycenter.org
X-WR-CALDESC:Events for Foothill Unity Center
REFRESH-INTERVAL;VALUE=DURATION:PT1H
X-Robots-Tag:noindex
X-PUBLISHED-TTL:PT1H
BEGIN:VTIMEZONE
TZID:UTC
BEGIN:STANDARD
TZOFFSETFROM:+0000
TZOFFSETTO:+0000
TZNAME:UTC
DTSTART:20250101T000000
END:STANDARD
END:VTIMEZONE
BEGIN:VEVENT
DTSTART;TZID=UTC:20260423T100000
DTEND;TZID=UTC:20260423T140000
DTSTAMP:20260424T014134
CREATED:20260317T225911Z
LAST-MODIFIED:20260317T225911Z
UID:10012202-1776938400-1776952800@foothillunitycenter.org
SUMMARY:LA Fire Justice Community Event (Monrovia)
DESCRIPTION:LA Fire Justice will be at our Monrovia location to provide resources for our neighbors who have been impacted by the wildfires. Through this partnership\, both organizations are hoping to continue providing support for those in need of additional assistance. \nLight refreshments will be provided! \n790 W. Chestnut Ave. \nThursday April 23 \n10am-2pm \nView flyers here: \nCommunity Conversations – Foothill Unity \nConversaciones Comunitarias – Foothill Unity
URL:https://foothillunitycenter.org/event/la-fire-justice-community-event-monrovia/
LOCATION:790 W Chestnut Ave\, Monrovia\, CA\, 91016\, 790 W Chestnut Ave\, Monrovia\, California\, 91016\, United States
ATTACH;FMTTYPE=image/jpeg:https://foothillunitycenter.org/wp-content/uploads/2026/03/Slider-Graphics-1.jpg
END:VEVENT
END:VCALENDAR