BEGIN:VCALENDAR
VERSION:2.0
PRODID:-//Foothill Unity Center - ECPv6.15.20//NONSGML v1.0//EN
CALSCALE:GREGORIAN
METHOD:PUBLISH
X-WR-CALNAME:Foothill Unity Center
X-ORIGINAL-URL:https://foothillunitycenter.org
X-WR-CALDESC:Events for Foothill Unity Center
REFRESH-INTERVAL;VALUE=DURATION:PT1H
X-Robots-Tag:noindex
X-PUBLISHED-TTL:PT1H
BEGIN:VTIMEZONE
TZID:UTC
BEGIN:STANDARD
TZOFFSETFROM:+0000
TZOFFSETTO:+0000
TZNAME:UTC
DTSTART:20240101T000000
END:STANDARD
END:VTIMEZONE
BEGIN:VEVENT
DTSTART;TZID=UTC:20250523T090000
DTEND;TZID=UTC:20250523T113000
DTSTAMP:20260423T014547
CREATED:20250306T214044Z
LAST-MODIFIED:20251009T164649Z
UID:10007668-1747990800-1747999800@foothillunitycenter.org
SUMMARY:Pasadena Food Distribution (Clients Only)
DESCRIPTION:Foothill Unity Center’s food distribution program provides fresh produce\, dairy\, protein\, and pantry staples to low-income families and individuals on a weekly basis. For more information on how to receive food services\, please email us at information@foothillunitycenter.org \nWHEN: \nTuesday\, Wednesday\, and Friday \n9:00AM-11:30AM \n  \nWHERE: \nFoothill Unity Center | Pasadena \n191 N Oak Ave.
URL:https://foothillunitycenter.org/event/food-distribution-in-pasadena/2025-05-23/
CATEGORIES:Food & Holiday Distributions
ATTACH;FMTTYPE=image/jpeg:https://foothillunitycenter.org/wp-content/uploads/2025/03/IMG_3685-scaled.jpg
END:VEVENT
BEGIN:VEVENT
DTSTART;TZID=UTC:20250523T090000
DTEND;TZID=UTC:20250523T113000
DTSTAMP:20260423T014547
CREATED:20250306T213901Z
LAST-MODIFIED:20251009T164614Z
UID:10006885-1747990800-1747999800@foothillunitycenter.org
SUMMARY:Monrovia Food Distribution (Clients Only)
DESCRIPTION:Foothill Unity Center’s food distribution program provides fresh produce\, dairy\, protein\, and pantry staples to low-income families and individuals on a weekly basis. For more information on how to receive food services\, please email us at information@foothillunitycenter.org \nWHEN: \nMonday\, Wednesday\, and Friday \n9:00AM-11:30AM \n  \nWHERE: \nFoothill Unity Center | Monrovia \n790 W Chestnut Ave.
URL:https://foothillunitycenter.org/event/food-distribution-in-monrovia/2025-05-23/
CATEGORIES:Food & Holiday Distributions
ATTACH;FMTTYPE=image/jpeg:https://foothillunitycenter.org/wp-content/uploads/2025/03/IMG_3685-scaled.jpg
END:VEVENT
BEGIN:VEVENT
DTSTART;TZID=UTC:20250521T090000
DTEND;TZID=UTC:20250521T113000
DTSTAMP:20260423T014547
CREATED:20250306T214044Z
LAST-MODIFIED:20251009T164649Z
UID:10007667-1747818000-1747827000@foothillunitycenter.org
SUMMARY:Pasadena Food Distribution (Clients Only)
DESCRIPTION:Foothill Unity Center’s food distribution program provides fresh produce\, dairy\, protein\, and pantry staples to low-income families and individuals on a weekly basis. For more information on how to receive food services\, please email us at information@foothillunitycenter.org \nWHEN: \nTuesday\, Wednesday\, and Friday \n9:00AM-11:30AM \n  \nWHERE: \nFoothill Unity Center | Pasadena \n191 N Oak Ave.
URL:https://foothillunitycenter.org/event/food-distribution-in-pasadena/2025-05-21/
CATEGORIES:Food & Holiday Distributions
ATTACH;FMTTYPE=image/jpeg:https://foothillunitycenter.org/wp-content/uploads/2025/03/IMG_3685-scaled.jpg
END:VEVENT
BEGIN:VEVENT
DTSTART;TZID=UTC:20250521T090000
DTEND;TZID=UTC:20250521T113000
DTSTAMP:20260423T014547
CREATED:20250306T213901Z
LAST-MODIFIED:20251009T164614Z
UID:10006884-1747818000-1747827000@foothillunitycenter.org
SUMMARY:Monrovia Food Distribution (Clients Only)
DESCRIPTION:Foothill Unity Center’s food distribution program provides fresh produce\, dairy\, protein\, and pantry staples to low-income families and individuals on a weekly basis. For more information on how to receive food services\, please email us at information@foothillunitycenter.org \nWHEN: \nMonday\, Wednesday\, and Friday \n9:00AM-11:30AM \n  \nWHERE: \nFoothill Unity Center | Monrovia \n790 W Chestnut Ave.
URL:https://foothillunitycenter.org/event/food-distribution-in-monrovia/2025-05-21/
CATEGORIES:Food & Holiday Distributions
ATTACH;FMTTYPE=image/jpeg:https://foothillunitycenter.org/wp-content/uploads/2025/03/IMG_3685-scaled.jpg
END:VEVENT
BEGIN:VEVENT
DTSTART;TZID=UTC:20250520T090000
DTEND;TZID=UTC:20250520T113000
DTSTAMP:20260423T014547
CREATED:20250306T214044Z
LAST-MODIFIED:20251009T164649Z
UID:10008429-1747731600-1747740600@foothillunitycenter.org
SUMMARY:Pasadena Food Distribution (Clients Only)
DESCRIPTION:Foothill Unity Center’s food distribution program provides fresh produce\, dairy\, protein\, and pantry staples to low-income families and individuals on a weekly basis. For more information on how to receive food services\, please email us at information@foothillunitycenter.org \nWHEN: \nTuesday\, Wednesday\, and Friday \n9:00AM-11:30AM \n  \nWHERE: \nFoothill Unity Center | Pasadena \n191 N Oak Ave.
URL:https://foothillunitycenter.org/event/food-distribution-in-pasadena/2025-05-20/
CATEGORIES:Food & Holiday Distributions
ATTACH;FMTTYPE=image/jpeg:https://foothillunitycenter.org/wp-content/uploads/2025/03/IMG_3685-scaled.jpg
END:VEVENT
BEGIN:VEVENT
DTSTART;TZID=UTC:20250519T090000
DTEND;TZID=UTC:20250519T113000
DTSTAMP:20260423T014547
CREATED:20250306T213901Z
LAST-MODIFIED:20251009T164614Z
UID:10006883-1747645200-1747654200@foothillunitycenter.org
SUMMARY:Monrovia Food Distribution (Clients Only)
DESCRIPTION:Foothill Unity Center’s food distribution program provides fresh produce\, dairy\, protein\, and pantry staples to low-income families and individuals on a weekly basis. For more information on how to receive food services\, please email us at information@foothillunitycenter.org \nWHEN: \nMonday\, Wednesday\, and Friday \n9:00AM-11:30AM \n  \nWHERE: \nFoothill Unity Center | Monrovia \n790 W Chestnut Ave.
URL:https://foothillunitycenter.org/event/food-distribution-in-monrovia/2025-05-19/
CATEGORIES:Food & Holiday Distributions
ATTACH;FMTTYPE=image/jpeg:https://foothillunitycenter.org/wp-content/uploads/2025/03/IMG_3685-scaled.jpg
END:VEVENT
BEGIN:VEVENT
DTSTART;TZID=UTC:20250516T090000
DTEND;TZID=UTC:20250516T113000
DTSTAMP:20260423T014547
CREATED:20250306T214044Z
LAST-MODIFIED:20251009T164649Z
UID:10007665-1747386000-1747395000@foothillunitycenter.org
SUMMARY:Pasadena Food Distribution (Clients Only)
DESCRIPTION:Foothill Unity Center’s food distribution program provides fresh produce\, dairy\, protein\, and pantry staples to low-income families and individuals on a weekly basis. For more information on how to receive food services\, please email us at information@foothillunitycenter.org \nWHEN: \nTuesday\, Wednesday\, and Friday \n9:00AM-11:30AM \n  \nWHERE: \nFoothill Unity Center | Pasadena \n191 N Oak Ave.
URL:https://foothillunitycenter.org/event/food-distribution-in-pasadena/2025-05-16/
CATEGORIES:Food & Holiday Distributions
ATTACH;FMTTYPE=image/jpeg:https://foothillunitycenter.org/wp-content/uploads/2025/03/IMG_3685-scaled.jpg
END:VEVENT
BEGIN:VEVENT
DTSTART;TZID=UTC:20250516T090000
DTEND;TZID=UTC:20250516T113000
DTSTAMP:20260423T014547
CREATED:20250306T213901Z
LAST-MODIFIED:20251009T164614Z
UID:10006882-1747386000-1747395000@foothillunitycenter.org
SUMMARY:Monrovia Food Distribution (Clients Only)
DESCRIPTION:Foothill Unity Center’s food distribution program provides fresh produce\, dairy\, protein\, and pantry staples to low-income families and individuals on a weekly basis. For more information on how to receive food services\, please email us at information@foothillunitycenter.org \nWHEN: \nMonday\, Wednesday\, and Friday \n9:00AM-11:30AM \n  \nWHERE: \nFoothill Unity Center | Monrovia \n790 W Chestnut Ave.
URL:https://foothillunitycenter.org/event/food-distribution-in-monrovia/2025-05-16/
CATEGORIES:Food & Holiday Distributions
ATTACH;FMTTYPE=image/jpeg:https://foothillunitycenter.org/wp-content/uploads/2025/03/IMG_3685-scaled.jpg
END:VEVENT
BEGIN:VEVENT
DTSTART;TZID=UTC:20250514T090000
DTEND;TZID=UTC:20250514T113000
DTSTAMP:20260423T014547
CREATED:20250306T214044Z
LAST-MODIFIED:20251009T164649Z
UID:10007664-1747213200-1747222200@foothillunitycenter.org
SUMMARY:Pasadena Food Distribution (Clients Only)
DESCRIPTION:Foothill Unity Center’s food distribution program provides fresh produce\, dairy\, protein\, and pantry staples to low-income families and individuals on a weekly basis. For more information on how to receive food services\, please email us at information@foothillunitycenter.org \nWHEN: \nTuesday\, Wednesday\, and Friday \n9:00AM-11:30AM \n  \nWHERE: \nFoothill Unity Center | Pasadena \n191 N Oak Ave.
URL:https://foothillunitycenter.org/event/food-distribution-in-pasadena/2025-05-14/
CATEGORIES:Food & Holiday Distributions
ATTACH;FMTTYPE=image/jpeg:https://foothillunitycenter.org/wp-content/uploads/2025/03/IMG_3685-scaled.jpg
END:VEVENT
BEGIN:VEVENT
DTSTART;TZID=UTC:20250514T090000
DTEND;TZID=UTC:20250514T113000
DTSTAMP:20260423T014547
CREATED:20250306T213901Z
LAST-MODIFIED:20251009T164614Z
UID:10006881-1747213200-1747222200@foothillunitycenter.org
SUMMARY:Monrovia Food Distribution (Clients Only)
DESCRIPTION:Foothill Unity Center’s food distribution program provides fresh produce\, dairy\, protein\, and pantry staples to low-income families and individuals on a weekly basis. For more information on how to receive food services\, please email us at information@foothillunitycenter.org \nWHEN: \nMonday\, Wednesday\, and Friday \n9:00AM-11:30AM \n  \nWHERE: \nFoothill Unity Center | Monrovia \n790 W Chestnut Ave.
URL:https://foothillunitycenter.org/event/food-distribution-in-monrovia/2025-05-14/
CATEGORIES:Food & Holiday Distributions
ATTACH;FMTTYPE=image/jpeg:https://foothillunitycenter.org/wp-content/uploads/2025/03/IMG_3685-scaled.jpg
END:VEVENT
BEGIN:VEVENT
DTSTART;TZID=UTC:20250513T090000
DTEND;TZID=UTC:20250513T113000
DTSTAMP:20260423T014547
CREATED:20250306T214044Z
LAST-MODIFIED:20251009T164649Z
UID:10008428-1747126800-1747135800@foothillunitycenter.org
SUMMARY:Pasadena Food Distribution (Clients Only)
DESCRIPTION:Foothill Unity Center’s food distribution program provides fresh produce\, dairy\, protein\, and pantry staples to low-income families and individuals on a weekly basis. For more information on how to receive food services\, please email us at information@foothillunitycenter.org \nWHEN: \nTuesday\, Wednesday\, and Friday \n9:00AM-11:30AM \n  \nWHERE: \nFoothill Unity Center | Pasadena \n191 N Oak Ave.
URL:https://foothillunitycenter.org/event/food-distribution-in-pasadena/2025-05-13/
CATEGORIES:Food & Holiday Distributions
ATTACH;FMTTYPE=image/jpeg:https://foothillunitycenter.org/wp-content/uploads/2025/03/IMG_3685-scaled.jpg
END:VEVENT
BEGIN:VEVENT
DTSTART;TZID=UTC:20250512T090000
DTEND;TZID=UTC:20250512T113000
DTSTAMP:20260423T014547
CREATED:20250306T213901Z
LAST-MODIFIED:20251009T164614Z
UID:10006880-1747040400-1747049400@foothillunitycenter.org
SUMMARY:Monrovia Food Distribution (Clients Only)
DESCRIPTION:Foothill Unity Center’s food distribution program provides fresh produce\, dairy\, protein\, and pantry staples to low-income families and individuals on a weekly basis. For more information on how to receive food services\, please email us at information@foothillunitycenter.org \nWHEN: \nMonday\, Wednesday\, and Friday \n9:00AM-11:30AM \n  \nWHERE: \nFoothill Unity Center | Monrovia \n790 W Chestnut Ave.
URL:https://foothillunitycenter.org/event/food-distribution-in-monrovia/2025-05-12/
CATEGORIES:Food & Holiday Distributions
ATTACH;FMTTYPE=image/jpeg:https://foothillunitycenter.org/wp-content/uploads/2025/03/IMG_3685-scaled.jpg
END:VEVENT
BEGIN:VEVENT
DTSTART;TZID=UTC:20250509T090000
DTEND;TZID=UTC:20250509T113000
DTSTAMP:20260423T014547
CREATED:20250306T214044Z
LAST-MODIFIED:20251009T164649Z
UID:10007662-1746781200-1746790200@foothillunitycenter.org
SUMMARY:Pasadena Food Distribution (Clients Only)
DESCRIPTION:Foothill Unity Center’s food distribution program provides fresh produce\, dairy\, protein\, and pantry staples to low-income families and individuals on a weekly basis. For more information on how to receive food services\, please email us at information@foothillunitycenter.org \nWHEN: \nTuesday\, Wednesday\, and Friday \n9:00AM-11:30AM \n  \nWHERE: \nFoothill Unity Center | Pasadena \n191 N Oak Ave.
URL:https://foothillunitycenter.org/event/food-distribution-in-pasadena/2025-05-09/
CATEGORIES:Food & Holiday Distributions
ATTACH;FMTTYPE=image/jpeg:https://foothillunitycenter.org/wp-content/uploads/2025/03/IMG_3685-scaled.jpg
END:VEVENT
BEGIN:VEVENT
DTSTART;TZID=UTC:20250509T090000
DTEND;TZID=UTC:20250509T113000
DTSTAMP:20260423T014547
CREATED:20250306T213901Z
LAST-MODIFIED:20251009T164614Z
UID:10006879-1746781200-1746790200@foothillunitycenter.org
SUMMARY:Monrovia Food Distribution (Clients Only)
DESCRIPTION:Foothill Unity Center’s food distribution program provides fresh produce\, dairy\, protein\, and pantry staples to low-income families and individuals on a weekly basis. For more information on how to receive food services\, please email us at information@foothillunitycenter.org \nWHEN: \nMonday\, Wednesday\, and Friday \n9:00AM-11:30AM \n  \nWHERE: \nFoothill Unity Center | Monrovia \n790 W Chestnut Ave.
URL:https://foothillunitycenter.org/event/food-distribution-in-monrovia/2025-05-09/
CATEGORIES:Food & Holiday Distributions
ATTACH;FMTTYPE=image/jpeg:https://foothillunitycenter.org/wp-content/uploads/2025/03/IMG_3685-scaled.jpg
END:VEVENT
BEGIN:VEVENT
DTSTART;TZID=UTC:20250507T090000
DTEND;TZID=UTC:20250507T113000
DTSTAMP:20260423T014547
CREATED:20250306T214044Z
LAST-MODIFIED:20251009T164649Z
UID:10007661-1746608400-1746617400@foothillunitycenter.org
SUMMARY:Pasadena Food Distribution (Clients Only)
DESCRIPTION:Foothill Unity Center’s food distribution program provides fresh produce\, dairy\, protein\, and pantry staples to low-income families and individuals on a weekly basis. For more information on how to receive food services\, please email us at information@foothillunitycenter.org \nWHEN: \nTuesday\, Wednesday\, and Friday \n9:00AM-11:30AM \n  \nWHERE: \nFoothill Unity Center | Pasadena \n191 N Oak Ave.
URL:https://foothillunitycenter.org/event/food-distribution-in-pasadena/2025-05-07/
CATEGORIES:Food & Holiday Distributions
ATTACH;FMTTYPE=image/jpeg:https://foothillunitycenter.org/wp-content/uploads/2025/03/IMG_3685-scaled.jpg
END:VEVENT
BEGIN:VEVENT
DTSTART;TZID=UTC:20250507T090000
DTEND;TZID=UTC:20250507T113000
DTSTAMP:20260423T014547
CREATED:20250306T213901Z
LAST-MODIFIED:20251009T164614Z
UID:10006878-1746608400-1746617400@foothillunitycenter.org
SUMMARY:Monrovia Food Distribution (Clients Only)
DESCRIPTION:Foothill Unity Center’s food distribution program provides fresh produce\, dairy\, protein\, and pantry staples to low-income families and individuals on a weekly basis. For more information on how to receive food services\, please email us at information@foothillunitycenter.org \nWHEN: \nMonday\, Wednesday\, and Friday \n9:00AM-11:30AM \n  \nWHERE: \nFoothill Unity Center | Monrovia \n790 W Chestnut Ave.
URL:https://foothillunitycenter.org/event/food-distribution-in-monrovia/2025-05-07/
CATEGORIES:Food & Holiday Distributions
ATTACH;FMTTYPE=image/jpeg:https://foothillunitycenter.org/wp-content/uploads/2025/03/IMG_3685-scaled.jpg
END:VEVENT
BEGIN:VEVENT
DTSTART;TZID=UTC:20250506T090000
DTEND;TZID=UTC:20250506T113000
DTSTAMP:20260423T014547
CREATED:20250306T214044Z
LAST-MODIFIED:20251009T164649Z
UID:10008427-1746522000-1746531000@foothillunitycenter.org
SUMMARY:Pasadena Food Distribution (Clients Only)
DESCRIPTION:Foothill Unity Center’s food distribution program provides fresh produce\, dairy\, protein\, and pantry staples to low-income families and individuals on a weekly basis. For more information on how to receive food services\, please email us at information@foothillunitycenter.org \nWHEN: \nTuesday\, Wednesday\, and Friday \n9:00AM-11:30AM \n  \nWHERE: \nFoothill Unity Center | Pasadena \n191 N Oak Ave.
URL:https://foothillunitycenter.org/event/food-distribution-in-pasadena/2025-05-06/
CATEGORIES:Food & Holiday Distributions
ATTACH;FMTTYPE=image/jpeg:https://foothillunitycenter.org/wp-content/uploads/2025/03/IMG_3685-scaled.jpg
END:VEVENT
BEGIN:VEVENT
DTSTART;TZID=UTC:20250505T090000
DTEND;TZID=UTC:20250505T113000
DTSTAMP:20260423T014547
CREATED:20250306T213901Z
LAST-MODIFIED:20251009T164614Z
UID:10006877-1746435600-1746444600@foothillunitycenter.org
SUMMARY:Monrovia Food Distribution (Clients Only)
DESCRIPTION:Foothill Unity Center’s food distribution program provides fresh produce\, dairy\, protein\, and pantry staples to low-income families and individuals on a weekly basis. For more information on how to receive food services\, please email us at information@foothillunitycenter.org \nWHEN: \nMonday\, Wednesday\, and Friday \n9:00AM-11:30AM \n  \nWHERE: \nFoothill Unity Center | Monrovia \n790 W Chestnut Ave.
URL:https://foothillunitycenter.org/event/food-distribution-in-monrovia/2025-05-05/
CATEGORIES:Food & Holiday Distributions
ATTACH;FMTTYPE=image/jpeg:https://foothillunitycenter.org/wp-content/uploads/2025/03/IMG_3685-scaled.jpg
END:VEVENT
BEGIN:VEVENT
DTSTART;TZID=UTC:20250502T090000
DTEND;TZID=UTC:20250502T113000
DTSTAMP:20260423T014547
CREATED:20250306T214044Z
LAST-MODIFIED:20251009T164649Z
UID:10007659-1746176400-1746185400@foothillunitycenter.org
SUMMARY:Pasadena Food Distribution (Clients Only)
DESCRIPTION:Foothill Unity Center’s food distribution program provides fresh produce\, dairy\, protein\, and pantry staples to low-income families and individuals on a weekly basis. For more information on how to receive food services\, please email us at information@foothillunitycenter.org \nWHEN: \nTuesday\, Wednesday\, and Friday \n9:00AM-11:30AM \n  \nWHERE: \nFoothill Unity Center | Pasadena \n191 N Oak Ave.
URL:https://foothillunitycenter.org/event/food-distribution-in-pasadena/2025-05-02/
CATEGORIES:Food & Holiday Distributions
ATTACH;FMTTYPE=image/jpeg:https://foothillunitycenter.org/wp-content/uploads/2025/03/IMG_3685-scaled.jpg
END:VEVENT
BEGIN:VEVENT
DTSTART;TZID=UTC:20250502T090000
DTEND;TZID=UTC:20250502T113000
DTSTAMP:20260423T014547
CREATED:20250306T213901Z
LAST-MODIFIED:20251009T164614Z
UID:10006876-1746176400-1746185400@foothillunitycenter.org
SUMMARY:Monrovia Food Distribution (Clients Only)
DESCRIPTION:Foothill Unity Center’s food distribution program provides fresh produce\, dairy\, protein\, and pantry staples to low-income families and individuals on a weekly basis. For more information on how to receive food services\, please email us at information@foothillunitycenter.org \nWHEN: \nMonday\, Wednesday\, and Friday \n9:00AM-11:30AM \n  \nWHERE: \nFoothill Unity Center | Monrovia \n790 W Chestnut Ave.
URL:https://foothillunitycenter.org/event/food-distribution-in-monrovia/2025-05-02/
CATEGORIES:Food & Holiday Distributions
ATTACH;FMTTYPE=image/jpeg:https://foothillunitycenter.org/wp-content/uploads/2025/03/IMG_3685-scaled.jpg
END:VEVENT
BEGIN:VEVENT
DTSTART;TZID=UTC:20250430T090000
DTEND;TZID=UTC:20250430T113000
DTSTAMP:20260423T014547
CREATED:20250306T214044Z
LAST-MODIFIED:20251009T164649Z
UID:10007658-1746003600-1746012600@foothillunitycenter.org
SUMMARY:Pasadena Food Distribution (Clients Only)
DESCRIPTION:Foothill Unity Center’s food distribution program provides fresh produce\, dairy\, protein\, and pantry staples to low-income families and individuals on a weekly basis. For more information on how to receive food services\, please email us at information@foothillunitycenter.org \nWHEN: \nTuesday\, Wednesday\, and Friday \n9:00AM-11:30AM \n  \nWHERE: \nFoothill Unity Center | Pasadena \n191 N Oak Ave.
URL:https://foothillunitycenter.org/event/food-distribution-in-pasadena/2025-04-30/
CATEGORIES:Food & Holiday Distributions
ATTACH;FMTTYPE=image/jpeg:https://foothillunitycenter.org/wp-content/uploads/2025/03/IMG_3685-scaled.jpg
END:VEVENT
BEGIN:VEVENT
DTSTART;TZID=UTC:20250430T090000
DTEND;TZID=UTC:20250430T113000
DTSTAMP:20260423T014547
CREATED:20250306T213901Z
LAST-MODIFIED:20251009T164614Z
UID:10006875-1746003600-1746012600@foothillunitycenter.org
SUMMARY:Monrovia Food Distribution (Clients Only)
DESCRIPTION:Foothill Unity Center’s food distribution program provides fresh produce\, dairy\, protein\, and pantry staples to low-income families and individuals on a weekly basis. For more information on how to receive food services\, please email us at information@foothillunitycenter.org \nWHEN: \nMonday\, Wednesday\, and Friday \n9:00AM-11:30AM \n  \nWHERE: \nFoothill Unity Center | Monrovia \n790 W Chestnut Ave.
URL:https://foothillunitycenter.org/event/food-distribution-in-monrovia/2025-04-30/
CATEGORIES:Food & Holiday Distributions
ATTACH;FMTTYPE=image/jpeg:https://foothillunitycenter.org/wp-content/uploads/2025/03/IMG_3685-scaled.jpg
END:VEVENT
BEGIN:VEVENT
DTSTART;TZID=UTC:20250429T090000
DTEND;TZID=UTC:20250429T113000
DTSTAMP:20260423T014547
CREATED:20250306T214044Z
LAST-MODIFIED:20251009T164649Z
UID:10008426-1745917200-1745926200@foothillunitycenter.org
SUMMARY:Pasadena Food Distribution (Clients Only)
DESCRIPTION:Foothill Unity Center’s food distribution program provides fresh produce\, dairy\, protein\, and pantry staples to low-income families and individuals on a weekly basis. For more information on how to receive food services\, please email us at information@foothillunitycenter.org \nWHEN: \nTuesday\, Wednesday\, and Friday \n9:00AM-11:30AM \n  \nWHERE: \nFoothill Unity Center | Pasadena \n191 N Oak Ave.
URL:https://foothillunitycenter.org/event/food-distribution-in-pasadena/2025-04-29/
CATEGORIES:Food & Holiday Distributions
ATTACH;FMTTYPE=image/jpeg:https://foothillunitycenter.org/wp-content/uploads/2025/03/IMG_3685-scaled.jpg
END:VEVENT
BEGIN:VEVENT
DTSTART;TZID=UTC:20250428T090000
DTEND;TZID=UTC:20250428T113000
DTSTAMP:20260423T014547
CREATED:20250306T213901Z
LAST-MODIFIED:20251009T164614Z
UID:10006874-1745830800-1745839800@foothillunitycenter.org
SUMMARY:Monrovia Food Distribution (Clients Only)
DESCRIPTION:Foothill Unity Center’s food distribution program provides fresh produce\, dairy\, protein\, and pantry staples to low-income families and individuals on a weekly basis. For more information on how to receive food services\, please email us at information@foothillunitycenter.org \nWHEN: \nMonday\, Wednesday\, and Friday \n9:00AM-11:30AM \n  \nWHERE: \nFoothill Unity Center | Monrovia \n790 W Chestnut Ave.
URL:https://foothillunitycenter.org/event/food-distribution-in-monrovia/2025-04-28/
CATEGORIES:Food & Holiday Distributions
ATTACH;FMTTYPE=image/jpeg:https://foothillunitycenter.org/wp-content/uploads/2025/03/IMG_3685-scaled.jpg
END:VEVENT
BEGIN:VEVENT
DTSTART;TZID=UTC:20250425T090000
DTEND;TZID=UTC:20250425T113000
DTSTAMP:20260423T014547
CREATED:20250306T214044Z
LAST-MODIFIED:20251009T164649Z
UID:10007656-1745571600-1745580600@foothillunitycenter.org
SUMMARY:Pasadena Food Distribution (Clients Only)
DESCRIPTION:Foothill Unity Center’s food distribution program provides fresh produce\, dairy\, protein\, and pantry staples to low-income families and individuals on a weekly basis. For more information on how to receive food services\, please email us at information@foothillunitycenter.org \nWHEN: \nTuesday\, Wednesday\, and Friday \n9:00AM-11:30AM \n  \nWHERE: \nFoothill Unity Center | Pasadena \n191 N Oak Ave.
URL:https://foothillunitycenter.org/event/food-distribution-in-pasadena/2025-04-25/
CATEGORIES:Food & Holiday Distributions
ATTACH;FMTTYPE=image/jpeg:https://foothillunitycenter.org/wp-content/uploads/2025/03/IMG_3685-scaled.jpg
END:VEVENT
BEGIN:VEVENT
DTSTART;TZID=UTC:20250425T090000
DTEND;TZID=UTC:20250425T113000
DTSTAMP:20260423T014547
CREATED:20250306T213901Z
LAST-MODIFIED:20251009T164614Z
UID:10006873-1745571600-1745580600@foothillunitycenter.org
SUMMARY:Monrovia Food Distribution (Clients Only)
DESCRIPTION:Foothill Unity Center’s food distribution program provides fresh produce\, dairy\, protein\, and pantry staples to low-income families and individuals on a weekly basis. For more information on how to receive food services\, please email us at information@foothillunitycenter.org \nWHEN: \nMonday\, Wednesday\, and Friday \n9:00AM-11:30AM \n  \nWHERE: \nFoothill Unity Center | Monrovia \n790 W Chestnut Ave.
URL:https://foothillunitycenter.org/event/food-distribution-in-monrovia/2025-04-25/
CATEGORIES:Food & Holiday Distributions
ATTACH;FMTTYPE=image/jpeg:https://foothillunitycenter.org/wp-content/uploads/2025/03/IMG_3685-scaled.jpg
END:VEVENT
BEGIN:VEVENT
DTSTART;TZID=UTC:20250423T090000
DTEND;TZID=UTC:20250423T113000
DTSTAMP:20260423T014547
CREATED:20250306T214044Z
LAST-MODIFIED:20251009T164649Z
UID:10007655-1745398800-1745407800@foothillunitycenter.org
SUMMARY:Pasadena Food Distribution (Clients Only)
DESCRIPTION:Foothill Unity Center’s food distribution program provides fresh produce\, dairy\, protein\, and pantry staples to low-income families and individuals on a weekly basis. For more information on how to receive food services\, please email us at information@foothillunitycenter.org \nWHEN: \nTuesday\, Wednesday\, and Friday \n9:00AM-11:30AM \n  \nWHERE: \nFoothill Unity Center | Pasadena \n191 N Oak Ave.
URL:https://foothillunitycenter.org/event/food-distribution-in-pasadena/2025-04-23/
CATEGORIES:Food & Holiday Distributions
ATTACH;FMTTYPE=image/jpeg:https://foothillunitycenter.org/wp-content/uploads/2025/03/IMG_3685-scaled.jpg
END:VEVENT
BEGIN:VEVENT
DTSTART;TZID=UTC:20250423T090000
DTEND;TZID=UTC:20250423T113000
DTSTAMP:20260423T014547
CREATED:20250306T213901Z
LAST-MODIFIED:20251009T164614Z
UID:10006872-1745398800-1745407800@foothillunitycenter.org
SUMMARY:Monrovia Food Distribution (Clients Only)
DESCRIPTION:Foothill Unity Center’s food distribution program provides fresh produce\, dairy\, protein\, and pantry staples to low-income families and individuals on a weekly basis. For more information on how to receive food services\, please email us at information@foothillunitycenter.org \nWHEN: \nMonday\, Wednesday\, and Friday \n9:00AM-11:30AM \n  \nWHERE: \nFoothill Unity Center | Monrovia \n790 W Chestnut Ave.
URL:https://foothillunitycenter.org/event/food-distribution-in-monrovia/2025-04-23/
CATEGORIES:Food & Holiday Distributions
ATTACH;FMTTYPE=image/jpeg:https://foothillunitycenter.org/wp-content/uploads/2025/03/IMG_3685-scaled.jpg
END:VEVENT
END:VCALENDAR